BEGIN:VCALENDAR
VERSION:2.0
PRODID:-//wp-events-plugin.com//7.2.3.1//EN
TZID:America/Chicago
X-WR-TIMEZONE:America/Chicago
BEGIN:VEVENT
UID:855@hws-ne.org
DTSTART;TZID=America/Chicago:20250408T100000
DTEND;TZID=America/Chicago:20250408T120000
DTSTAMP:20250401T203556Z
URL:https://hws-ne.org/cal/resource-spotlight-cira/
SUMMARY:Resource Spotlight: CIRA
DESCRIPTION:\n\n\n\nCenter for Immigrant and Refugee Advancement\n\n\n\n\n\
 n\n\nIn 2022\, Immigrant Legal Center and Refugee Empowerment Center merge
 d\, and the combined nonprofit organization is now CIRA.\n\nJoin us at our
  24th Street location to speak with a representative from CIRA 10-12pm!\n\
 n\n
CATEGORIES:Job Seekers,Partners
LOCATION:HWS 24th Street Location\, 4425 South 24th Street\, Omaha\, NE\, 6
 8107\, United States
X-APPLE-STRUCTURED-LOCATION;VALUE=URI;X-ADDRESS=4425 South 24th Street\, Om
 aha\, NE\, 68107\, United States;X-APPLE-RADIUS=100;X-TITLE=HWS 24th Stree
 t Location:geo:0,0
END:VEVENT
BEGIN:VTIMEZONE
TZID:America/Chicago
X-LIC-LOCATION:America/Chicago
BEGIN:DAYLIGHT
DTSTART:20250309T030000
TZOFFSETFROM:-0600
TZOFFSETTO:-0500
TZNAME:CDT
END:DAYLIGHT
END:VTIMEZONE
END:VCALENDAR