BEGIN:VCALENDAR
VERSION:2.0
PRODID:-//wp-events-plugin.com//7.2.3.1//EN
TZID:America/Chicago
X-WR-TIMEZONE:America/Chicago
BEGIN:VEVENT
UID:3491@hws-ne.org
DTSTART;TZID=America/Chicago:20260512T130000
DTEND;TZID=America/Chicago:20260512T150000
DTSTAMP:20260413T205332Z
URL:https://hws-ne.org/cal/northstar-digital-literacy/
SUMMARY:NorthStar Digital Literacy
DESCRIPTION: NorthStar Digital Literacy – By Metropolitan Community Coll
 ege \nA free\, instructor-led workshop designed to strengthen your essent
 ial digital skills:\n\n\n 	\nDuration: 2 hours \n\n 	\nCost: No charge
 —completely free\n\n 	\nContent:\n\n\n 	\nBasic computer skills (Windows
  &amp\; Mac OS)\n\n 	\nInternet navigation and safe browsing\n\n 	\nEmail 
 use and management\n\n 	\nUnderstanding of everyday digital tools\n\n\n\n
ATTACH;FMTTYPE=image/jpeg:https://hws-ne.org/wp-content/uploads/2025/06/No
 rthstar-Digital-Literacy-Courses.png
CATEGORIES:Job Seekers,Partners
LOCATION:MCC North Express (MXN)\, 2112 N 30th St- RM 312\, Omaha\, NE\, 68
 111\, United States
X-APPLE-STRUCTURED-LOCATION;VALUE=URI;X-ADDRESS=2112 N 30th St- RM 312\, Om
 aha\, NE\, 68111\, United States;X-APPLE-RADIUS=100;X-TITLE=MCC North Expr
 ess (MXN):geo:0,0
END:VEVENT
BEGIN:VTIMEZONE
TZID:America/Chicago
X-LIC-LOCATION:America/Chicago
BEGIN:DAYLIGHT
DTSTART:20260308T030000
TZOFFSETFROM:-0600
TZOFFSETTO:-0500
TZNAME:CDT
END:DAYLIGHT
END:VTIMEZONE
END:VCALENDAR