BEGIN:VCALENDAR
VERSION:2.0
PRODID:-//wp-events-plugin.com//7.2.3.1//EN
TZID:America/Chicago
X-WR-TIMEZONE:America/Chicago
BEGIN:VEVENT
UID:3503@hws-ne.org
DTSTART;TZID=America/Chicago:20260606T090000
DTEND;TZID=America/Chicago:20260606T110000
DTSTAMP:20260417T184323Z
URL:https://hws-ne.org/cal/jobapalooza-2026/
SUMMARY:Jobapalooza 2026
DESCRIPTION:🚨 SAVE THE DATE 🚨\nJobapalooza 2026 is BACK and bigger th
 an ever! 🎉\nJoin us for our 6th Annual Jobapalooza — a high-energy\, 
 family-friendly morning packed with:\n🎯 Games &amp\; prizes\n🌭 Free 
 food\n🤝 Connections with 30+ employers\n🎈 Fun for all ages\nThis isn
 ’t your typical job event — it’s a full-on Saturday morning experien
 ce where opportunity meets community 💥\n📅 Saturday\, June 6\, 2026\n
 ⏰ 9 AM – 11 AM\n📍 5752 Ames Ave\, Omaha\, NE\nBring your family\, b
 ring your friends\, and come ready to connect\, explore\, and have a blast
 !\n👉 Secure your spot now: https://forms.office.com/r/pDHrSu2yFw\n#Joba
 palooza #OmahaEvents #HiringNow #CommunityConnections #HeartlandWorkforce
ATTACH;FMTTYPE=image/jpeg:https://hws-ne.org/wp-content/uploads/2026/04/1.
 png
CATEGORIES:Job Seekers,Partners
LOCATION:HWS Ames Location\, 5752 Ames Ave.\, Omaha\, NE\, 68104\, United S
 tates
X-APPLE-STRUCTURED-LOCATION;VALUE=URI;X-ADDRESS=5752 Ames Ave.\, Omaha\, NE
 \, 68104\, United States;X-APPLE-RADIUS=100;X-TITLE=HWS Ames Location:geo:
 0,0
END:VEVENT
BEGIN:VTIMEZONE
TZID:America/Chicago
X-LIC-LOCATION:America/Chicago
BEGIN:DAYLIGHT
DTSTART:20260308T030000
TZOFFSETFROM:-0600
TZOFFSETTO:-0500
TZNAME:CDT
END:DAYLIGHT
END:VTIMEZONE
END:VCALENDAR