BEGIN:VCALENDAR
VERSION:2.0
PRODID:-//wp-events-plugin.com//7.2.3.1//EN
TZID:America/Chicago
X-WR-TIMEZONE:America/Chicago
BEGIN:VEVENT
UID:336@hws-ne.org
DTSTART;TZID=America/Chicago:20240903T180000
DTEND;TZID=America/Chicago:20240903T213000
DTSTAMP:20240724T211025Z
URL:https://hws-ne.org/cal/it-fundamentals-training-course/
SUMMARY:IT Fundamentals Training Course
DESCRIPTION:IT is everywhere! The information technology field is booming a
 nd the demand for qualified employees continues to increase. If you like c
 hallenges\, troubleshooting\, learning new skills with growth potential an
 d you want your resume to stand out among other applicants\, this program 
 may be for you!\nThe course is delivered through joint instruction from co
 mmunity partners and MCC. Students enrolled in this course will build thei
 r confidence in a low-risk environment\, develop a broader understanding o
 f IT and help aspiring IT professionals decide if a career in IT is right 
 for them. The program includes content and instruction that enables studen
 ts to earn the a Google IT Support certification.
ATTACH;FMTTYPE=image/jpeg:https://hws-ne.org/wp-content/uploads/2024/07/In
 troduction-to-IT-Fundamentals-September-202483.png
LOCATION:MCC Fort Omaha Campus\, 5300 N 30th St - Building 24 Room 115A\, O
 maha\, NE\, United States
X-APPLE-STRUCTURED-LOCATION;VALUE=URI;X-ADDRESS=5300 N 30th St - Building 2
 4 Room 115A\, Omaha\, NE\, United States;X-APPLE-RADIUS=100;X-TITLE=MCC Fo
 rt Omaha Campus:geo:0,0
END:VEVENT
BEGIN:VTIMEZONE
TZID:America/Chicago
X-LIC-LOCATION:America/Chicago
BEGIN:DAYLIGHT
DTSTART:20240310T030000
TZOFFSETFROM:-0600
TZOFFSETTO:-0500
TZNAME:CDT
END:DAYLIGHT
END:VTIMEZONE
END:VCALENDAR