BEGIN:VCALENDAR
VERSION:2.0
PRODID:-//wp-events-plugin.com//7.2.3.1//EN
TZID:America/Chicago
X-WR-TIMEZONE:America/Chicago
BEGIN:VEVENT
UID:3459@hws-ne.org
DTSTART;TZID=America/Chicago:20260303T100000
DTEND;TZID=America/Chicago:20260303T140000
DTSTAMP:20260216T161008Z
URL:https://hws-ne.org/cal/hiring-event/
SUMMARY:Hiring Event
DESCRIPTION:\n\n\n\n\n\n\nHiring Event – March 3Join us at the Soccer Fie
 ld at Sports Plex (Mid America Dr W\, Council Bluffs\, IA) for a hiring ev
 ent featuring multiple employers and great career opportunities. Veterans 
 receive priority access during the first hour\, and the event is open to a
 ll job seekers afterward. Need help preparing? IowaWORKS offers resume ass
 istance and interview practice. Hosted by IowaWORKS and Heartland Workforc
 e Solutions.\n\n\n\n\n\n\n\n\n\n
ATTACH;FMTTYPE=image/jpeg:https://hws-ne.org/wp-content/uploads/2026/02/Re
 source-Room-ENG-02.11.26-2-pdf.jpg
CATEGORIES:Job Seekers,Partners
LOCATION:Soccer Field at Sports Plex Mid America Dr W\, 3260 Mid America Dr
 ive\, Council Bluffs\, IA\, 51501\, United States
X-APPLE-STRUCTURED-LOCATION;VALUE=URI;X-ADDRESS=3260 Mid America Drive\, Co
 uncil Bluffs\, IA\, 51501\, United States;X-APPLE-RADIUS=100;X-TITLE=Socce
 r Field at Sports Plex Mid America Dr W:geo:0,0
END:VEVENT
BEGIN:VTIMEZONE
TZID:America/Chicago
X-LIC-LOCATION:America/Chicago
BEGIN:STANDARD
DTSTART:20251102T010000
TZOFFSETFROM:-0500
TZOFFSETTO:-0600
TZNAME:CST
END:STANDARD
END:VTIMEZONE
END:VCALENDAR