BEGIN:VCALENDAR
VERSION:2.0
PRODID:-//wp-events-plugin.com//7.2.3.1//EN
TZID:America/Chicago
X-WR-TIMEZONE:America/Chicago
BEGIN:VEVENT
UID:3501@hws-ne.org
DTSTART;TZID=America/Chicago:20260513T170000
DTEND;TZID=America/Chicago:20260513T190000
DTSTAMP:20260417T155935Z
URL:https://hws-ne.org/cal/highly-technical-job-fair/
SUMMARY:Highly Technical Job Fair
DESCRIPTION:Highly Technical Job Fair — Connect with employers hiring in 
 data\, AI\, and technology. Explore careers in analytics\, software\, and 
 IT while building connections with companies actively hiring. Discover how
  your skills translate into today’s digital workforce.\n\nRegister here:
   https://forms.cloud.microsoft/r/xbtxrWE5mJ
ATTACH;FMTTYPE=image/jpeg:https://hws-ne.org/wp-content/uploads/2026/04/EN
 G-2.png
CATEGORIES:Job Seekers,Partners
LOCATION:Millwork Commons\, 1229 Millwork Avenue\, Omaha\, NE\, 68102\, Uni
 ted States
X-APPLE-STRUCTURED-LOCATION;VALUE=URI;X-ADDRESS=1229 Millwork Avenue\, Omah
 a\, NE\, 68102\, United States;X-APPLE-RADIUS=100;X-TITLE=Millwork Commons
 :geo:0,0
END:VEVENT
BEGIN:VTIMEZONE
TZID:America/Chicago
X-LIC-LOCATION:America/Chicago
BEGIN:DAYLIGHT
DTSTART:20260308T030000
TZOFFSETFROM:-0600
TZOFFSETTO:-0500
TZNAME:CDT
END:DAYLIGHT
END:VTIMEZONE
END:VCALENDAR