BEGIN:VCALENDAR
VERSION:2.0
PRODID:-//wp-events-plugin.com//7.2.3.1//EN
TZID:America/Chicago
X-WR-TIMEZONE:America/Chicago
BEGIN:VEVENT
UID:849@hws-ne.org
DTSTART;TZID=America/Chicago:20250424T073000
DTEND;TZID=America/Chicago:20250424T093000
DTSTAMP:20250314T164425Z
URL:https://hws-ne.org/cal/full-board-meeting-strategic-planning/
SUMMARY:Full Board Meeting - Strategic Planning
DESCRIPTION:Notice of Meetings\nHeartland Workforce Solutions (HWS)\nFull B
 oard Meeting - Strategic Planning\nApr 24th\, 2025\, 7:30am\nHWS - Communi
 ty Room\n5752 Ames Ave\, Omaha\, NE 68104\nMeetings are open to the public
 . The agenda will be kept continually current and is available for public 
 inspection at the principal office located at 5752 Ames Avenue Omaha\, Neb
 raska. Agenda items will include operation\, financial\, and committee rep
 orts. For past agendas\, board packets\, and related information\, please 
 see here [link].\nAn Equal Opportunity Employer/Program - Relay Services a
 re accessible by TTY by dialing 1-800-833-7352 (TTY) and hearing callers m
 ay dial 1-800-833-0920 (VOICE).
ATTACH;FMTTYPE=image/jpeg:https://hws-ne.org/wp-content/uploads/2025/03/Bo
 ard-Meeting.png
LOCATION:HWS Ames Location\, 5752 Ames Ave.\, Omaha\, NE\, 68104\, United S
 tates
X-APPLE-STRUCTURED-LOCATION;VALUE=URI;X-ADDRESS=5752 Ames Ave.\, Omaha\, NE
 \, 68104\, United States;X-APPLE-RADIUS=100;X-TITLE=HWS Ames Location:geo:
 0,0
END:VEVENT
BEGIN:VTIMEZONE
TZID:America/Chicago
X-LIC-LOCATION:America/Chicago
BEGIN:DAYLIGHT
DTSTART:20250309T030000
TZOFFSETFROM:-0600
TZOFFSETTO:-0500
TZNAME:CDT
END:DAYLIGHT
END:VTIMEZONE
END:VCALENDAR