BEGIN:VCALENDAR
VERSION:2.0
PRODID:-//wp-events-plugin.com//7.2.3.1//EN
TZID:America/Chicago
X-WR-TIMEZONE:America/Chicago
BEGIN:VEVENT
UID:668@hws-ne.org
DTSTART;TZID=America/Chicago:20240918T110000
DTEND;TZID=America/Chicago:20240918T140000
DTSTAMP:20240911T140850Z
URL:https://hws-ne.org/cal/employer-spotlight-allied-universal/
SUMMARY:Employer Spotlight: Allied Universal
DESCRIPTION:Come speak with Allied Universal about their various open posit
 ions! 
ATTACH;FMTTYPE=image/jpeg:https://hws-ne.org/wp-content/uploads/2024/09/al
 lied_universal_logo.webp
END:VEVENT
BEGIN:VTIMEZONE
TZID:America/Chicago
X-LIC-LOCATION:America/Chicago
BEGIN:DAYLIGHT
DTSTART:20240310T030000
TZOFFSETFROM:-0600
TZOFFSETTO:-0500
TZNAME:CDT
END:DAYLIGHT
END:VTIMEZONE
END:VCALENDAR